BEGIN:VCALENDAR
VERSION:2.0
PRODID:-//Jüdische Union - ECPv6.15.20//NONSGML v1.0//EN
CALSCALE:GREGORIAN
METHOD:PUBLISH
X-WR-CALNAME:Jüdische Union
X-ORIGINAL-URL:https://juedischeunion.de
X-WR-CALDESC:Veranstaltungen für Jüdische Union
REFRESH-INTERVAL;VALUE=DURATION:PT1H
X-Robots-Tag:noindex
X-PUBLISHED-TTL:PT1H
BEGIN:VTIMEZONE
TZID:Europe/Helsinki
BEGIN:DAYLIGHT
TZOFFSETFROM:+0200
TZOFFSETTO:+0300
TZNAME:EEST
DTSTART:20250330T010000
END:DAYLIGHT
BEGIN:STANDARD
TZOFFSETFROM:+0300
TZOFFSETTO:+0200
TZNAME:EET
DTSTART:20251026T010000
END:STANDARD
BEGIN:DAYLIGHT
TZOFFSETFROM:+0200
TZOFFSETTO:+0300
TZNAME:EEST
DTSTART:20260329T010000
END:DAYLIGHT
BEGIN:STANDARD
TZOFFSETFROM:+0300
TZOFFSETTO:+0200
TZNAME:EET
DTSTART:20261025T010000
END:STANDARD
BEGIN:DAYLIGHT
TZOFFSETFROM:+0200
TZOFFSETTO:+0300
TZNAME:EEST
DTSTART:20270328T010000
END:DAYLIGHT
BEGIN:STANDARD
TZOFFSETFROM:+0300
TZOFFSETTO:+0200
TZNAME:EET
DTSTART:20271031T010000
END:STANDARD
END:VTIMEZONE
BEGIN:VEVENT
DTSTART;TZID=Europe/Helsinki:20260307T160000
DTEND;TZID=Europe/Helsinki:20260307T180000
DTSTAMP:20260424T183420
CREATED:20260211T191535Z
LAST-MODIFIED:20260307T083827Z
UID:1871-1772899200-1772906400@juedischeunion.de
SUMMARY:Friedensdialog im Bezirk Hamburg-Nord: Purimfest [Ausgebucht]
DESCRIPTION:Anmeldung: events[at]hhju.de \n  \nGefördert durch Bezirksversammlung Hamburg-Nord
URL:https://juedischeunion.de/event/friedensdialog-im-bezirk-hamburg-nord-purimfest
LOCATION:22453 Hamburg-Nord\, Hamburg\, 22453\, Germany
ATTACH;FMTTYPE=image/png:https://juedischeunion.de/wp-content/uploads/2026/02/ChatGPT-Image-Feb-11-2026-at-08_14_46-PM.png
END:VEVENT
BEGIN:VEVENT
DTSTART;TZID=Europe/Helsinki:20260307T180000
DTEND;TZID=Europe/Helsinki:20260307T235900
DTSTAMP:20260424T183420
CREATED:20260105T100245Z
LAST-MODIFIED:20260307T083945Z
UID:1728-1772906400-1772927940@juedischeunion.de
SUMMARY:L’Chaim Party: A Purim Bal Masqué & Weltfrauentag [Ausgebucht]
DESCRIPTION:✡️ Jewish Matching Night: A Purim Bal Masqué 🎭 \nAn evening of celebration\, connection\, and shared joy.\nNot only for singles—this night is for friends\, members\, young families\, and everyone who loves vibrant Jewish life. \nMasks invite curiosity.\nMusic brings us together.\nPurim reminds us how powerful joy and encounter can be. \n📍 Saturday · March 7\, 2026\n🕕 From 6:00 PM\n📌 22453\, Hamburg-Nord \n🎧 On Stage: DJ Skafelnikof\n🥂 All Kosher\n🔞 18+ Event \nTraveling from outside Hamburg?\nHotel accommodation available 5 minutes’ walk from the event location (22453 Hamburg-Nord)\, from €70 per night. \nCome as you are.\nBring friends.\nCelebrate Purim in style. \n  \n  \nJewish Matching Night: A Purim Bal Masqué\n✡️ Еврейский вечер знакомств: Purim Bal Masqué 🎭 \nВечер праздника\, общения и общей радости.\nНе только для одиночек — этот вечер для друзей\, членов общины\, молодых семей и всех\, кто любит живую и открытую еврейскую жизнь. \nМаски пробуждают интерес.\nМузыка объединяет.\nПурим напоминает\, насколько сильны радость и встреча. \n📍 Суббота\, 7 марта 2026\n🕕 Начало в 18:00\n📌 Гамбург-Норд \n🎧 На сцене: DJ Skafelnikof\n🥂 Всё кошерно\n🔞 Мероприятие 18+ \nПриезжаете из другого города?\nОтель в 5 минутах пешком от места проведения (22453 Hamburg-Nord)\, от 70 € за ночь. \nПриходите такими\, какие вы есть.\nБерите с собой друзей.\nОтпразднуем Пурим стильно. \nJüdische Union\nDiversität | Inklusion | Dialog \n  \nDer Einlass erfolgt ausschließlich nach Sicherheitskontrolle und Vorlage eines gültigen Personalausweises. \nTaschen größer als DIN A4 dürfen nicht mitgeführt werden.\nEine Abgabe von Taschen oder Rucksäcken an der Garderobe ist nicht möglich.
URL:https://juedischeunion.de/event/lchaim-party-a-purim-bal-masque
ATTACH;FMTTYPE=image/jpeg:https://juedischeunion.de/wp-content/uploads/2026/01/20260307-LeChaim-Party-Purim-mit-DJ-Skafelnikof-scaled.jpg
END:VEVENT
BEGIN:VEVENT
DTSTART;TZID=Europe/Helsinki:20260329T130000
DTEND;TZID=Europe/Helsinki:20260329T180000
DTSTAMP:20260424T183420
CREATED:20260325T105310Z
LAST-MODIFIED:20260325T105452Z
UID:1964-1774789200-1774807200@juedischeunion.de
SUMMARY:Sunday Funday: Karaoke am Sonntag
DESCRIPTION:Liebe Alle\, \nunsere nächste Karaoke für euch und auch für Kinder\, die schon singen können\, findet am Sonntag\, den 29.03.\, ab 13:00 Uhr statt. \nEs ist unser letztes Treffen vor dem Pessachfest\, und deshalb möchten wir gemeinsam singen\, alle Getränke austrinken und uns mit Freude auf Pessach einstimmen. \nWir freuen uns auf euch! \nEintritt ist frei. Spenden sind willkommen. Getränke gegen Spende. \n  \nFür Nichtmitglieder ist eine Voranmeldung erforderlich. E-Mails ohne vollständigen Vor- und Nachnamen werden als Spam ignoriert und nicht bearbeitet. \nevents[at]hhju.de \n  \nJüdische Union\nDivesität | Inklusion | Dialog \n 
URL:https://juedischeunion.de/event/sunday-funday-karaoke-am-sonntag
LOCATION:22083 Hamburg-Nord\, Hamburg\, 22083\, Germany
ATTACH;FMTTYPE=image/jpeg:https://juedischeunion.de/wp-content/uploads/2026/03/20260329-Karaoke-am-Sonntag-scaled.jpg
END:VEVENT
END:VCALENDAR